Workbook
Name Datum: Grafik!$A$17:$A$640
Name Datum4: OFFSET('Autokredit mit abw Schlussrate'!$C$17,0,0,COUNTA('Autokredit mit abw Schlussrate'!$C$17:$C$640),1)
Name ErsterMonatAuto: 'Autokredit mit abw Schlussrate'!$B$17
Name Tilgung4: OFFSET('Autokredit mit abw Schlussrate'!$I$17,0,0,COUNT('Autokredit mit abw Schlussrate'!$I$17:$I$640),1)
Name Zinsen4: OFFSET('Autokredit mit abw Schlussrate'!$G$17,0,0,COUNT('Autokredit mit abw Schlussrate'!$G$17:$G$640),1)

Sheet Autokredit mit abw Schlussrate
B2: Tilgungsplan für einen Autokredit (Ratenkredit) | S2: Weitere Informationen zu Darlehen und Krediten finden Sie auf
S3: https://www.controllerspielwiese.de
B4: Feste Tilgungsrate, feste Monatsrate, fester Zinssatz
B5: Berechnung der abweichenden Schlussrate (Ballonfinanzierung, Schlussratenfinanzierung)
B7: Variablen zum Eingeben: | G7: Menü: | I7: Berechnete Ergebnisse: | S7: Weitere Kreditrechner finden Sie in unserer Toolbox:
B8: Kaufpreis in EUR: | E8: 18000 | G8: zum 1. Monat | I8: Gesamtbetrag in EUR: | K8: =SUMIF(A17:A640,"1",J17:J640) -> 17444.834 | S8: https://www.controllerspielwiese.de/inhalte/toolbox
B9: - Anzahlung in EUR: | E9: -2000 | G9: =HYPERLINK("#"&ADDRESS(MATCH(K12,C17:C640,0)+16,2),"zur letzten Rate") -> zur letzten Rate | I9: Summe der Tilgungen in EUR: | K9: =SUMIF(A17:A640,"1",I17:I640) -> 16000
B10: = Brutto Kreditsumme in EUR: | E10: =E8+E9 -> 16000 | G10: Jahressummen | I10: Summe der Zinsen in EUR: | K10: =SUMIF(A17:A640,"1",G17:G640) -> 1444.8343
B11: Sollzinsatz p.a. in %: | E11: 0.045 | G11: zur Grafik | I11: = S Kapitaldienst in EUR: | K11: =SUMIF(A17:A640,"1",J17:J640) -> 17444.834
B12: Laufzeit in Jahren: | E12: 3 | I12: Ende Laufzeit / letzte Rate: | K12: =IF(E14="","",EOMONTH(E14,E12*12-1)) -> 47118
B13: ="Darlehensrate 1 - "&$E$12*12-1 -> Darlehensrate 1 - 35 | E13: 350 | F13: =IF(E13*E12*12>=E10,"Fehler: Rückzahlung > Kreditsumme","") | I13: Schlussrate inkl. Zins in EUR: | K13: =IF(E14="",0,LARGE(J17:J640,1)) -> 5194.8343
B14: Darlehensbeginn / 1. Rate: | E14: 46023 | F14: =IF(E13*E12*12>=E10,(E13*E12*12)&" > "&E8,"") | I14: Effektivzinssatz in %: | K14: =(1+(E11/12))^12-1 -> 0.045939825
B16: Rate | C16: Jahr | D16: Monat | E16: Auszahlung/ Restschuld | F16: Zinssatz in % | G16: Zinsen in EUR | H16: Tilgungssatz in % | I16: Tilgung in EUR | J16: Rate pro Monat | K16: Restschuld am Ende der Periode | M16: Jahressummen
A17: =IF(E17>0,1,0) -> 1 | B17: =IF(MONTH($E$14)=L17,1,"") -> 1 | C17: =IF(MONTH($E$14)>=L17,EOMONTH(DATE(YEAR($E$14),L17,DAY($E$14)),0),EOMONTH(C16,1)) -> 46053 | D17: =IF(MONTH($E$14)=L17,MONTH($E$14),"") -> 1 | E17: =IF(D17="",0,$E$10) -> 16000 | F17: =IF(E10="","",IF(D17="","",$E$11)) -> 0.045 | G17: =IF(E10="",0,IF(D17="",0,E17*F17/12)) -> 60 | H17: =IF(E10="","",IF(D17="","",I17/E17)) -> 0.018125 | I17: =IF(E10="",0,IF($D17="",0,IF($E17<$E$10,E17,J17-G17))) -> 290 | J17: =IF(D17="",0,$E$13) -> 350 | K17: =IF(E17<J17,0,E17-I17) -> 15710 | L17: 1 | M17: Jahr | N17: Zinsen | O17: Tilgung | P17: Kapitaldienst | Q17: Restschuld
A18: =IF(E18>0,1,0) -> 1 | B18: =IF(D18="","",IF(AND(D17="",C18>1),1,B17+1)) -> 2 | C18: =IF(MONTH($E$14)>=L18,EOMONTH(DATE(YEAR($E$14),L18,DAY($E$14)),0),EOMONTH(C17,1)) -> 46081 | D18: =IF(MONTH($E$14)=L18,L18,IF(C18>$K$12,"",IF($E$14>C18,"",MONTH(C18)))) -> 2 | E18: =IF(D18="",0,IF(E17<>0,K17,$E$10)) -> 15710 | F18: =IF($E$10="","",IF(D18="","",$E$11)) -> 0.045 | G18: =IF($E$10="",0,IF(D18="",0,E18*F18/12)) -> 58.9125 | H18: =IF($E$10="","",IF(D18="","",I18/E18)) -> 0.018528803 | I18: =IF($E$10="",0,IF($D18="",0,J18-G18)) -> 291.0875 | J18: =IF(B18=$E$12*12,E18+G18,IF(D18="",0,$E$13)) -> 350 | K18: =IF(E18<J18,0,E18-I18) -> 15418.913 | L18: 2 | M18: =E12 -> 3 | N18: =SUM(N19:N95) -> 1444.8343 | O18: =SUM(O19:O95) -> 16000 | P18: =SUM(P19:P95) -> 17444.834 | Q18: =SMALL(Q19:Q95,1) -> 1.8189894e-12
A19: =IF(E19>0,1,0) -> 1 | B19: =IF(D19="","",IF(AND(D18="",C19>1),1,B18+1)) -> 3 | C19: =IF(MONTH($E$14)>=L19,EOMONTH(DATE(YEAR($E$14),L19,DAY($E$14)),0),EOMONTH(C18,1)) -> 46112 | D19: =IF(MONTH($E$14)=L19,L19,IF(C19>$K$12,"",IF($E$14>C19,"",MONTH(C19)))) -> 3 | E19: =IF(D19="",0,IF(E18<>0,K18,$E$10)) -> 15418.913 | F19: =IF($E$10="","",IF(D19="","",$E$11)) -> 0.045 | G19: =IF($E$10="",0,IF(D19="",0,E19*F19/12)) -> 57.820922 | H19: =IF($E$10="","",IF(D19="","",I19/E19)) -> 0.018949396 | I19: =IF($E$10="",0,IF($D19="",0,J19-G19)) -> 292.17908 | J19: =IF(B19=$E$12*12,E19+G19,IF(D19="",0,$E$13)) -> 350 | K19: =IF(E19<J19,0,E19-I19) -> 15126.733 | L19: 3 | M19: =YEAR(E14) -> 2026 | N19: =IF(M19="","",SUMIFS($G$17:$G$640,$C$17:$C$640,">="&DATE($M19,1,1),$C$17:$C$640,"<="&DATE($M19,12,31))) -> 647.3202 | O19: =IF(M19="","",SUMIFS($I$17:$I$640,$C$17:$C$640,">="&DATE($M19,1,1),$C$17:$C$640,"<="&DATE($M19,12,31))) -> 3552.6798 | P19: =IF(M19="","",SUM(N19:O19)) -> 4200 | Q19: =IF(M19="","",E10-O19) -> 12447.32
A20: =IF(E20>0,1,0) -> 1 | B20: =IF(D20="","",IF(AND(D19="",C20>1),1,B19+1)) -> 4 | C20: =IF(MONTH($E$14)>=L20,EOMONTH(DATE(YEAR($E$14),L20,DAY($E$14)),0),EOMONTH(C19,1)) -> 46142 | D20: =IF(MONTH($E$14)=L20,L20,IF(C20>$K$12,"",IF($E$14>C20,"",MONTH(C20)))) -> 4 | E20: =IF(D20="",0,IF(E19<>0,K19,$E$10)) -> 15126.733 | F20: =IF($E$10="","",IF(D20="","",$E$11)) -> 0.045 | G20: =IF($E$10="",0,IF(D20="",0,E20*F20/12)) -> 56.72525 | H20: =IF($E$10="","",IF(D20="","",I20/E20)) -> 0.019387844 | I20: =IF($E$10="",0,IF($D20="",0,J20-G20)) -> 293.27475 | J20: =IF(B20=$E$12*12,E20+G20,IF(D20="",0,$E$13)) -> 350 | K20: =IF(E20<J20,0,E20-I20) -> 14833.459 | L20: 4 | M20: =IF(M19="","",IF(M19=YEAR($K$12),"",M19+1)) -> 2027 | N20: =IF(M20="","",SUMIFS($G$17:$G$640,$C$17:$C$640,">="&DATE($M20,1,1),$C$17:$C$640,"<="&DATE($M20,12,31))) -> 484.11071 | O20: =IF(M20="","",SUMIFS($I$17:$I$640,$C$17:$C$640,">="&DATE($M20,1,1),$C$17:$C$640,"<="&DATE($M20,12,31))) -> 3715.8893 | P20: =IF(M20="","",SUM(N20:O20)) -> 4200 | Q20: =IF(M20="","",Q19-O20) -> 8731.4309
A21: =IF(E21>0,1,0) -> 1 | B21: =IF(D21="","",IF(AND(D20="",C21>1),1,B20+1)) -> 5 | C21: =IF(MONTH($E$14)>=L21,EOMONTH(DATE(YEAR($E$14),L21,DAY($E$14)),0),EOMONTH(C20,1)) -> 46173 | D21: =IF(MONTH($E$14)=L21,L21,IF(C21>$K$12,"",IF($E$14>C21,"",MONTH(C21)))) -> 5 | E21: =IF(D21="",0,IF(E20<>0,K20,$E$10)) -> 14833.459 | F21: =IF($E$10="","",IF(D21="","",$E$11)) -> 0.045 | G21: =IF($E$10="",0,IF(D21="",0,E21*F21/12)) -> 55.62547 | H21: =IF($E$10="","",IF(D21="","",I21/E21)) -> 0.019845306 | I21: =IF($E$10="",0,IF($D21="",0,J21-G21)) -> 294.37453 | J21: =IF(B21=$E$12*12,E21+G21,IF(D21="",0,$E$13)) -> 350 | K21: =IF(E21<J21,0,E21-I21) -> 14539.084 | L21: 5 | M21: =IF(M20="","",IF(M20=YEAR($K$12),"",M20+1)) -> 2028 | N21: =IF(M21="","",SUMIFS($G$17:$G$640,$C$17:$C$640,">="&DATE($M21,1,1),$C$17:$C$640,"<="&DATE($M21,12,31))) -> 313.4034 | O21: =IF(M21="","",SUMIFS($I$17:$I$640,$C$17:$C$640,">="&DATE($M21,1,1),$C$17:$C$640,"<="&DATE($M21,12,31))) -> 8731.4309 | P21: =IF(M21="","",SUM(N21:O21)) -> 9044.8343 | Q21: =IF(M21="","",Q20-O21) -> 1.8189894e-12
A22: =IF(E22>0,1,0) -> 1 | B22: =IF(D22="","",IF(AND(D21="",C22>1),1,B21+1)) -> 6 | C22: =IF(MONTH($E$14)>=L22,EOMONTH(DATE(YEAR($E$14),L22,DAY($E$14)),0),EOMONTH(C21,1)) -> 46203 | D22: =IF(MONTH($E$14)=L22,L22,IF(C22>$K$12,"",IF($E$14>C22,"",MONTH(C22)))) -> 6 | E22: =IF(D22="",0,IF(E21<>0,K21,$E$10)) -> 14539.084 | F22: =IF($E$10="","",IF(D22="","",$E$11)) -> 0.045 | G22: =IF($E$10="",0,IF(D22="",0,E22*F22/12)) -> 54.521566 | H22: =IF($E$10="","",IF(D22="","",I22/E22)) -> 0.020323043 | I22: =IF($E$10="",0,IF($D22="",0,J22-G22)) -> 295.47843 | J22: =IF(B22=$E$12*12,E22+G22,IF(D22="",0,$E$13)) -> 350 | K22: =IF(E22<J22,0,E22-I22) -> 14243.606 | L22: 6 | M22: =IF(M21="","",IF(M21=YEAR($K$12),"",M21+1)) | N22: =IF(M22="","",SUMIFS($G$17:$G$640,$C$17:$C$640,">="&DATE($M22,1,1),$C$17:$C$640,"<="&DATE($M22,12,31))) | O22: =IF(M22="","",SUMIFS($I$17:$I$640,$C$17:$C$640,">="&DATE($M22,1,1),$C$17:$C$640,"<="&DATE($M22,12,31))) | P22: =IF(M22="","",SUM(N22:O22)) | Q22: =IF(M22="","",Q21-O22)
A23: =IF(E23>0,1,0) -> 1 | B23: =IF(D23="","",IF(AND(D22="",C23>1),1,B22+1)) -> 7 | C23: =IF(MONTH($E$14)>=L23,EOMONTH(DATE(YEAR($E$14),L23,DAY($E$14)),0),EOMONTH(C22,1)) -> 46234 | D23: =IF(MONTH($E$14)=L23,L23,IF(C23>$K$12,"",IF($E$14>C23,"",MONTH(C23)))) -> 7 | E23: =IF(D23="",0,IF(E22<>0,K22,$E$10)) -> 14243.606 | F23: =IF($E$10="","",IF(D23="","",$E$11)) -> 0.045 | G23: =IF($E$10="",0,IF(D23="",0,E23*F23/12)) -> 53.413521 | H23: =IF($E$10="","",IF(D23="","",I23/E23)) -> 0.02082243 | I23: =IF($E$10="",0,IF($D23="",0,J23-G23)) -> 296.58648 | J23: =IF(B23=$E$12*12,E23+G23,IF(D23="",0,$E$13)) -> 350 | K23: =IF(E23<J23,0,E23-I23) -> 13947.019 | L23: 7 | M23: =IF(M22="","",IF(M22=YEAR($K$12),"",M22+1)) | N23: =IF(M23="","",SUMIFS($G$17:$G$640,$C$17:$C$640,">="&DATE($M23,1,1),$C$17:$C$640,"<="&DATE($M23,12,31))) | O23: =IF(M23="","",SUMIFS($I$17:$I$640,$C$17:$C$640,">="&DATE($M23,1,1),$C$17:$C$640,"<="&DATE($M23,12,31))) | P23: =IF(M23="","",SUM(N23:O23)) | Q23: =IF(M23="","",Q22-O23)
A24: =IF(E24>0,1,0) -> 1 | B24: =IF(D24="","",IF(AND(D23="",C24>1),1,B23+1)) -> 8 | C24: =IF(MONTH($E$14)>=L24,EOMONTH(DATE(YEAR($E$14),L24,DAY($E$14)),0),EOMONTH(C23,1)) -> 46265 | D24: =IF(MONTH($E$14)=L24,L24,IF(C24>$K$12,"",IF($E$14>C24,"",MONTH(C24)))) -> 8 | E24: =IF(D24="",0,IF(E23<>0,K23,$E$10)) -> 13947.019 | F24: =IF($E$10="","",IF(D24="","",$E$11)) -> 0.045 | G24: =IF($E$10="",0,IF(D24="",0,E24*F24/12)) -> 52.301322 | H24: =IF($E$10="","",IF(D24="","",I24/E24)) -> 0.021344968 | I24: =IF($E$10="",0,IF($D24="",0,J24-G24)) -> 297.69868 | J24: =IF(B24=$E$12*12,E24+G24,IF(D24="",0,$E$13)) -> 350 | K24: =IF(E24<J24,0,E24-I24) -> 13649.321 | L24: 8 | M24: =IF(M23="","",IF(M23=YEAR($K$12),"",M23+1)) | N24: =IF(M24="","",SUMIFS($G$17:$G$640,$C$17:$C$640,">="&DATE($M24,1,1),$C$17:$C$640,"<="&DATE($M24,12,31))) | O24: =IF(M24="","",SUMIFS($I$17:$I$640,$C$17:$C$640,">="&DATE($M24,1,1),$C$17:$C$640,"<="&DATE($M24,12,31))) | P24: =IF(M24="","",SUM(N24:O24)) | Q24: =IF(M24="","",Q23-O24)
A25: =IF(E25>0,1,0) -> 1 | B25: =IF(D25="","",IF(AND(D24="",C25>1),1,B24+1)) -> 9 | C25: =IF(MONTH($E$14)>=L25,EOMONTH(DATE(YEAR($E$14),L25,DAY($E$14)),0),EOMONTH(C24,1)) -> 46295 | D25: =IF(MONTH($E$14)=L25,L25,IF(C25>$K$12,"",IF($E$14>C25,"",MONTH(C25)))) -> 9 | E25: =IF(D25="",0,IF(E24<>0,K24,$E$10)) -> 13649.321 | F25: =IF($E$10="","",IF(D25="","",$E$11)) -> 0.045 | G25: =IF($E$10="",0,IF(D25="",0,E25*F25/12)) -> 51.184952 | H25: =IF($E$10="","",IF(D25="","",I25/E25)) -> 0.021892302 | I25: =IF($E$10="",0,IF($D25="",0,J25-G25)) -> 298.81505 | J25: =IF(B25=$E$12*12,E25+G25,IF(D25="",0,$E$13)) -> 350 | K25: =IF(E25<J25,0,E25-I25) -> 13350.506 | L25: 9 | M25: =IF(M24="","",IF(M24=YEAR($K$12),"",M24+1)) | N25: =IF(M25="","",SUMIFS($G$17:$G$640,$C$17:$C$640,">="&DATE($M25,1,1),$C$17:$C$640,"<="&DATE($M25,12,31))) | O25: =IF(M25="","",SUMIFS($I$17:$I$640,$C$17:$C$640,">="&DATE($M25,1,1),$C$17:$C$640,"<="&DATE($M25,12,31))) | P25: =IF(M25="","",SUM(N25:O25)) | Q25: =IF(M25="","",Q24-O25)
A26: =IF(E26>0,1,0) -> 1 | B26: =IF(D26="","",IF(AND(D25="",C26>1),1,B25+1)) -> 10 | C26: =IF(MONTH($E$14)>=L26,EOMONTH(DATE(YEAR($E$14),L26,DAY($E$14)),0),EOMONTH(C25,1)) -> 46326 | D26: =IF(MONTH($E$14)=L26,L26,IF(C26>$K$12,"",IF($E$14>C26,"",MONTH(C26)))) -> 10 | E26: =IF(D26="",0,IF(E25<>0,K25,$E$10)) -> 13350.506 | F26: =IF($E$10="","",IF(D26="","",$E$11)) -> 0.045 | G26: =IF($E$10="",0,IF(D26="",0,E26*F26/12)) -> 50.064396 | H26: =IF($E$10="","",IF(D26="","",I26/E26)) -> 0.022466236 | I26: =IF($E$10="",0,IF($D26="",0,J26-G26)) -> 299.9356 | J26: =IF(B26=$E$12*12,E26+G26,IF(D26="",0,$E$13)) -> 350 | K26: =IF(E26<J26,0,E26-I26) -> 13050.57 | L26: 10 | M26: =IF(M25="","",IF(M25=YEAR($K$12),"",M25+1)) | N26: =IF(M26="","",SUMIFS($G$17:$G$640,$C$17:$C$640,">="&DATE($M26,1,1),$C$17:$C$640,"<="&DATE($M26,12,31))) | O26: =IF(M26="","",SUMIFS($I$17:$I$640,$C$17:$C$640,">="&DATE($M26,1,1),$C$17:$C$640,"<="&DATE($M26,12,31))) | P26: =IF(M26="","",SUM(N26:O26)) | Q26: =IF(M26="","",Q25-O26)
A27: =IF(E27>0,1,0) -> 1 | B27: =IF(D27="","",IF(AND(D26="",C27>1),1,B26+1)) -> 11 | C27: =IF(MONTH($E$14)>=L27,EOMONTH(DATE(YEAR($E$14),L27,DAY($E$14)),0),EOMONTH(C26,1)) -> 46356 | D27: =IF(MONTH($E$14)=L27,L27,IF(C27>$K$12,"",IF($E$14>C27,"",MONTH(C27)))) -> 11 | E27: =IF(D27="",0,IF(E26<>0,K26,$E$10)) -> 13050.57 | F27: =IF($E$10="","",IF(D27="","",$E$11)) -> 0.045 | G27: =IF($E$10="",0,IF(D27="",0,E27*F27/12)) -> 48.939637 | H27: =IF($E$10="","",IF(D27="","",I27/E27)) -> 0.023068752 | I27: =IF($E$10="",0,IF($D27="",0,J27-G27)) -> 301.06036 | J27: =IF(B27=$E$12*12,E27+G27,IF(D27="",0,$E$13)) -> 350 | K27: =IF(E27<J27,0,E27-I27) -> 12749.51 | L27: 11 | M27: =IF(M26="","",IF(M26=YEAR($K$12),"",M26+1)) | N27: =IF(M27="","",SUMIFS($G$17:$G$640,$C$17:$C$640,">="&DATE($M27,1,1),$C$17:$C$640,"<="&DATE($M27,12,31))) | O27: =IF(M27="","",SUMIFS($I$17:$I$640,$C$17:$C$640,">="&DATE($M27,1,1),$C$17:$C$640,"<="&DATE($M27,12,31))) | P27: =IF(M27="","",SUM(N27:O27)) | Q27: =IF(M27="","",Q26-O27)
A28: =IF(E28>0,1,0) -> 1 | B28: =IF(D28="","",IF(AND(D27="",C28>1),1,B27+1)) -> 12 | C28: =IF(MONTH($E$14)>=L28,EOMONTH(DATE(YEAR($E$14),L28,DAY($E$14)),0),EOMONTH(C27,1)) -> 46387 | D28: =IF(MONTH($E$14)=L28,L28,IF(C28>$K$12,"",IF($E$14>C28,"",MONTH(C28)))) -> 12 | E28: =IF(D28="",0,IF(E27<>0,K27,$E$10)) -> 12749.51 | F28: =IF($E$10="","",IF(D28="","",$E$11)) -> 0.045 | G28: =IF($E$10="",0,IF(D28="",0,E28*F28/12)) -> 47.810661 | H28: =IF($E$10="","",IF(D28="","",I28/E28)) -> 0.023702036 | I28: =IF($E$10="",0,IF($D28="",0,J28-G28)) -> 302.18934 | J28: =IF(B28=$E$12*12,E28+G28,IF(D28="",0,$E$13)) -> 350 | K28: =IF(E28<J28,0,E28-I28) -> 12447.32 | L28: 12 | M28: =IF(M27="","",IF(M27=YEAR($K$12),"",M27+1)) | N28: =IF(M28="","",SUMIFS($G$17:$G$640,$C$17:$C$640,">="&DATE($M28,1,1),$C$17:$C$640,"<="&DATE($M28,12,31))) | O28: =IF(M28="","",SUMIFS($I$17:$I$640,$C$17:$C$640,">="&DATE($M28,1,1),$C$17:$C$640,"<="&DATE($M28,12,31))) | P28: =IF(M28="","",SUM(N28:O28)) | Q28: =IF(M28="","",Q27-O28)
A29: =IF(E29>0,1,0) -> 1 | B29: =IF(D29="","",IF(AND(D28="",C29>1),1,B28+1)) -> 13 | C29: =IF(MONTH($E$14)>=L29,EOMONTH(DATE(YEAR($E$14),L29,DAY($E$14)),0),EOMONTH(C28,1)) -> 46418 | D29: =IF(MONTH($E$14)=L29,L29,IF(C29>$K$12,"",IF($E$14>C29,"",MONTH(C29)))) -> 1 | E29: =IF(D29="",0,IF(E28<>0,K28,$E$10)) -> 12447.32 | F29: =IF($E$10="","",IF(D29="","",$E$11)) -> 0.045 | G29: =IF($E$10="",0,IF(D29="",0,E29*F29/12)) -> 46.677451 | H29: =IF($E$10="","",IF(D29="","",I29/E29)) -> 0.024368502 | I29: =IF($E$10="",0,IF($D29="",0,J29-G29)) -> 303.32255 | J29: =IF(B29=$E$12*12,E29+G29,IF(D29="",0,$E$13)) -> 350 | K29: =IF(E29<J29,0,E29-I29) -> 12143.998 | L29: 13 | M29: =IF(M28="","",IF(M28=YEAR($K$12),"",M28+1)) | N29: =IF(M29="","",SUMIFS($G$17:$G$640,$C$17:$C$640,">="&DATE($M29,1,1),$C$17:$C$640,"<="&DATE($M29,12,31))) | O29: =IF(M29="","",SUMIFS($I$17:$I$640,$C$17:$C$640,">="&DATE($M29,1,1),$C$17:$C$640,"<="&DATE($M29,12,31))) | P29: =IF(M29="","",SUM(N29:O29)) | Q29: =IF(M29="","",Q28-O29)
A30: =IF(E30>0,1,0) -> 1 | B30: =IF(D30="","",IF(AND(D29="",C30>1),1,B29+1)) -> 14 | C30: =IF(MONTH($E$14)>=L30,EOMONTH(DATE(YEAR($E$14),L30,DAY($E$14)),0),EOMONTH(C29,1)) -> 46446 | D30: =IF(MONTH($E$14)=L30,L30,IF(C30>$K$12,"",IF($E$14>C30,"",MONTH(C30)))) -> 2 | E30: =IF(D30="",0,IF(E29<>0,K29,$E$10)) -> 12143.998 | F30: =IF($E$10="","",IF(D30="","",$E$11)) -> 0.045 | G30: =IF($E$10="",0,IF(D30="",0,E30*F30/12)) -> 45.539991 | H30: =IF($E$10="","",IF(D30="","",I30/E30)) -> 0.025070822 | I30: =IF($E$10="",0,IF($D30="",0,J30-G30)) -> 304.46001 | J30: =IF(B30=$E$12*12,E30+G30,IF(D30="",0,$E$13)) -> 350 | K30: =IF(E30<J30,0,E30-I30) -> 11839.538 | L30: 14 | M30: =IF(M29="","",IF(M29=YEAR($K$12),"",M29+1)) | N30: =IF(M30="","",SUMIFS($G$17:$G$640,$C$17:$C$640,">="&DATE($M30,1,1),$C$17:$C$640,"<="&DATE($M30,12,31))) | O30: =IF(M30="","",SUMIFS($I$17:$I$640,$C$17:$C$640,">="&DATE($M30,1,1),$C$17:$C$640,"<="&DATE($M30,12,31))) | P30: =IF(M30="","",SUM(N30:O30)) | Q30: =IF(M30="","",Q29-O30)
A31: =IF(E31>0,1,0) -> 1 | B31: =IF(D31="","",IF(AND(D30="",C31>1),1,B30+1)) -> 15 | C31: =IF(MONTH($E$14)>=L31,EOMONTH(DATE(YEAR($E$14),L31,DAY($E$14)),0),EOMONTH(C30,1)) -> 46477 | D31: =IF(MONTH($E$14)=L31,L31,IF(C31>$K$12,"",IF($E$14>C31,"",MONTH(C31)))) -> 3 | E31: =IF(D31="",0,IF(E30<>0,K30,$E$10)) -> 11839.538 | F31: =IF($E$10="","",IF(D31="","",$E$11)) -> 0.045 | G31: =IF($E$10="",0,IF(D31="",0,E31*F31/12)) -> 44.398266 | H31: =IF($E$10="","",IF(D31="","",I31/E31)) -> 0.025811965 | I31: =IF($E$10="",0,IF($D31="",0,J31-G31)) -> 305.60173 | J31: =IF(B31=$E$12*12,E31+G31,IF(D31="",0,$E$13)) -> 350 | K31: =IF(E31<J31,0,E31-I31) -> 11533.936 | L31: 15 | M31: =IF(M30="","",IF(M30=YEAR($K$12),"",M30+1)) | N31: =IF(M31="","",SUMIFS($G$17:$G$640,$C$17:$C$640,">="&DATE($M31,1,1),$C$17:$C$640,"<="&DATE($M31,12,31))) | O31: =IF(M31="","",SUMIFS($I$17:$I$640,$C$17:$C$640,">="&DATE($M31,1,1),$C$17:$C$640,"<="&DATE($M31,12,31))) | P31: =IF(M31="","",SUM(N31:O31)) | Q31: =IF(M31="","",Q30-O31)
... A95: =IF(E95>0,1,0) -> 0 | B95: =IF(D95="","",IF(AND(D94="",C95>1),1,B94+1)) | C95: =IF(MONTH($E$14)>=L95,EOMONTH(DATE(YEAR($E$14),L95,DAY($E$14)),0),EOMONTH(C94,1)) -> 48426 | D95: =IF(MONTH($E$14)=L95,L95,IF(C95>$K$12,"",IF($E$14>C95,"",MONTH(C95)))) | E95: =IF(D95="",0,IF(E94<>0,K94,$E$10)) -> 0 | F95: =IF($E$10="","",IF(D95="","",$E$11)) | G95: =IF($E$10="",0,IF(D95="",0,E95*F95/12)) -> 0 | H95: =IF($E$10="","",IF(D95="","",I95/E95)) | I95: =IF($E$10="",0,IF($D95="",0,J95-G95)) -> 0 | J95: =IF(B95=$E$12*12,E95+G95,IF(D95="",0,$E$13)) -> 0 | K95: =IF(E95<J95,0,E95-I95) -> 0 | L95: 79 | M95: =IF(M94="","",IF(M94=YEAR($K$12),"",M94+1)) | N95: =IF(M95="","",SUMIFS($G$17:$G$640,$C$17:$C$640,">="&DATE($M95,1,1),$C$17:$C$640,"<="&DATE($M95,12,31))) | O95: =IF(M95="","",SUMIFS($I$17:$I$640,$C$17:$C$640,">="&DATE($M95,1,1),$C$17:$C$640,"<="&DATE($M95,12,31))) | P95: =IF(M95="","",SUM(N95:O95)) | Q95: =IF(M95="","",Q94-O95)
A96: =IF(E96>0,1,0) -> 0 | B96: =IF(D96="","",IF(AND(D95="",C96>1),1,B95+1)) | C96: =IF(MONTH($E$14)>=L96,EOMONTH(DATE(YEAR($E$14),L96,DAY($E$14)),0),EOMONTH(C95,1)) -> 48457 | D96: =IF(MONTH($E$14)=L96,L96,IF(C96>$K$12,"",IF($E$14>C96,"",MONTH(C96)))) | E96: =IF(D96="",0,IF(E95<>0,K95,$E$10)) -> 0 | F96: =IF($E$10="","",IF(D96="","",$E$11)) | G96: =IF($E$10="",0,IF(D96="",0,E96*F96/12)) -> 0 | H96: =IF($E$10="","",IF(D96="","",I96/E96)) | I96: =IF($E$10="",0,IF($D96="",0,J96-G96)) -> 0 | J96: =IF(B96=$E$12*12,E96+G96,IF(D96="",0,$E$13)) -> 0 | K96: =IF(E96<J96,0,E96-I96) -> 0 | L96: 80
A97: =IF(E97>0,1,0) -> 0 | B97: =IF(D97="","",IF(AND(D96="",C97>1),1,B96+1)) | C97: =IF(MONTH($E$14)>=L97,EOMONTH(DATE(YEAR($E$14),L97,DAY($E$14)),0),EOMONTH(C96,1)) -> 48487 | D97: =IF(MONTH($E$14)=L97,L97,IF(C97>$K$12,"",IF($E$14>C97,"",MONTH(C97)))) | E97: =IF(D97="",0,IF(E96<>0,K96,$E$10)) -> 0 | F97: =IF($E$10="","",IF(D97="","",$E$11)) | G97: =IF($E$10="",0,IF(D97="",0,E97*F97/12)) -> 0 | H97: =IF($E$10="","",IF(D97="","",I97/E97)) | I97: =IF($E$10="",0,IF($D97="",0,J97-G97)) -> 0 | J97: =IF(B97=$E$12*12,E97+G97,IF(D97="",0,$E$13)) -> 0 | K97: =IF(E97<J97,0,E97-I97) -> 0 | L97: 81
A98: =IF(E98>0,1,0) -> 0 | B98: =IF(D98="","",IF(AND(D97="",C98>1),1,B97+1)) | C98: =IF(MONTH($E$14)>=L98,EOMONTH(DATE(YEAR($E$14),L98,DAY($E$14)),0),EOMONTH(C97,1)) -> 48518 | D98: =IF(MONTH($E$14)=L98,L98,IF(C98>$K$12,"",IF($E$14>C98,"",MONTH(C98)))) | E98: =IF(D98="",0,IF(E97<>0,K97,$E$10)) -> 0 | F98: =IF($E$10="","",IF(D98="","",$E$11)) | G98: =IF($E$10="",0,IF(D98="",0,E98*F98/12)) -> 0 | H98: =IF($E$10="","",IF(D98="","",I98/E98)) | I98: =IF($E$10="",0,IF($D98="",0,J98-G98)) -> 0 | J98: =IF(B98=$E$12*12,E98+G98,IF(D98="",0,$E$13)) -> 0 | K98: =IF(E98<J98,0,E98-I98) -> 0 | L98: 82
A99: =IF(E99>0,1,0) -> 0 | B99: =IF(D99="","",IF(AND(D98="",C99>1),1,B98+1)) | C99: =IF(MONTH($E$14)>=L99,EOMONTH(DATE(YEAR($E$14),L99,DAY($E$14)),0),EOMONTH(C98,1)) -> 48548 | D99: =IF(MONTH($E$14)=L99,L99,IF(C99>$K$12,"",IF($E$14>C99,"",MONTH(C99)))) | E99: =IF(D99="",0,IF(E98<>0,K98,$E$10)) -> 0 | F99: =IF($E$10="","",IF(D99="","",$E$11)) | G99: =IF($E$10="",0,IF(D99="",0,E99*F99/12)) -> 0 | H99: =IF($E$10="","",IF(D99="","",I99/E99)) | I99: =IF($E$10="",0,IF($D99="",0,J99-G99)) -> 0 | J99: =IF(B99=$E$12*12,E99+G99,IF(D99="",0,$E$13)) -> 0 | K99: =IF(E99<J99,0,E99-I99) -> 0 | L99: 83
A100: =IF(E100>0,1,0) -> 0 | B100: =IF(D100="","",IF(AND(D99="",C100>1),1,B99+1)) | C100: =IF(MONTH($E$14)>=L100,EOMONTH(DATE(YEAR($E$14),L100,DAY($E$14)),0),EOMONTH(C99,1)) -> 48579 | D100: =IF(MONTH($E$14)=L100,L100,IF(C100>$K$12,"",IF($E$14>C100,"",MONTH(C100)))) | E100: =IF(D100="",0,IF(E99<>0,K99,$E$10)) -> 0 | F100: =IF($E$10="","",IF(D100="","",$E$11)) | G100: =IF($E$10="",0,IF(D100="",0,E100*F100/12)) -> 0 | H100: =IF($E$10="","",IF(D100="","",I100/E100)) | I100: =IF($E$10="",0,IF($D100="",0,J100-G100)) -> 0 | J100: =IF(B100=$E$12*12,E100+G100,IF(D100="",0,$E$13)) -> 0 | K100: =IF(E100<J100,0,E100-I100) -> 0 | L100: 84
A101: =IF(E101>0,1,0) -> 0 | B101: =IF(D101="","",IF(AND(D100="",C101>1),1,B100+1)) | C101: =IF(MONTH($E$14)>=L101,EOMONTH(DATE(YEAR($E$14),L101,DAY($E$14)),0),EOMONTH(C100,1)) -> 48610 | D101: =IF(MONTH($E$14)=L101,L101,IF(C101>$K$12,"",IF($E$14>C101,"",MONTH(C101)))) | E101: =IF(D101="",0,IF(E100<>0,K100,$E$10)) -> 0 | F101: =IF($E$10="","",IF(D101="","",$E$11)) | G101: =IF($E$10="",0,IF(D101="",0,E101*F101/12)) -> 0 | H101: =IF($E$10="","",IF(D101="","",I101/E101)) | I101: =IF($E$10="",0,IF($D101="",0,J101-G101)) -> 0 | J101: =IF(B101=$E$12*12,E101+G101,IF(D101="",0,$E$13)) -> 0 | K101: =IF(E101<J101,0,E101-I101) -> 0 | L101: 85
A102: =IF(E102>0,1,0) -> 0 | B102: =IF(D102="","",IF(AND(D101="",C102>1),1,B101+1)) | C102: =IF(MONTH($E$14)>=L102,EOMONTH(DATE(YEAR($E$14),L102,DAY($E$14)),0),EOMONTH(C101,1)) -> 48638 | D102: =IF(MONTH($E$14)=L102,L102,IF(C102>$K$12,"",IF($E$14>C102,"",MONTH(C102)))) | E102: =IF(D102="",0,IF(E101<>0,K101,$E$10)) -> 0 | F102: =IF($E$10="","",IF(D102="","",$E$11)) | G102: =IF($E$10="",0,IF(D102="",0,E102*F102/12)) -> 0 | H102: =IF($E$10="","",IF(D102="","",I102/E102)) | I102: =IF($E$10="",0,IF($D102="",0,J102-G102)) -> 0 | J102: =IF(B102=$E$12*12,E102+G102,IF(D102="",0,$E$13)) -> 0 | K102: =IF(E102<J102,0,E102-I102) -> 0 | L102: 86
A103: =IF(E103>0,1,0) -> 0 | B103: =IF(D103="","",IF(AND(D102="",C103>1),1,B102+1)) | C103: =IF(MONTH($E$14)>=L103,EOMONTH(DATE(YEAR($E$14),L103,DAY($E$14)),0),EOMONTH(C102,1)) -> 48669 | D103: =IF(MONTH($E$14)=L103,L103,IF(C103>$K$12,"",IF($E$14>C103,"",MONTH(C103)))) | E103: =IF(D103="",0,IF(E102<>0,K102,$E$10)) -> 0 | F103: =IF($E$10="","",IF(D103="","",$E$11)) | G103: =IF($E$10="",0,IF(D103="",0,E103*F103/12)) -> 0 | H103: =IF($E$10="","",IF(D103="","",I103/E103)) | I103: =IF($E$10="",0,IF($D103="",0,J103-G103)) -> 0 | J103: =IF(B103=$E$12*12,E103+G103,IF(D103="",0,$E$13)) -> 0 | K103: =IF(E103<J103,0,E103-I103) -> 0 | L103: 87
A104: =IF(E104>0,1,0) -> 0 | B104: =IF(D104="","",IF(AND(D103="",C104>1),1,B103+1)) | C104: =IF(MONTH($E$14)>=L104,EOMONTH(DATE(YEAR($E$14),L104,DAY($E$14)),0),EOMONTH(C103,1)) -> 48699 | D104: =IF(MONTH($E$14)=L104,L104,IF(C104>$K$12,"",IF($E$14>C104,"",MONTH(C104)))) | E104: =IF(D104="",0,IF(E103<>0,K103,$E$10)) -> 0 | F104: =IF($E$10="","",IF(D104="","",$E$11)) | G104: =IF($E$10="",0,IF(D104="",0,E104*F104/12)) -> 0 | H104: =IF($E$10="","",IF(D104="","",I104/E104)) | I104: =IF($E$10="",0,IF($D104="",0,J104-G104)) -> 0 | J104: =IF(B104=$E$12*12,E104+G104,IF(D104="",0,$E$13)) -> 0 | K104: =IF(E104<J104,0,E104-I104) -> 0 | L104: 88
A105: =IF(E105>0,1,0) -> 0 | B105: =IF(D105="","",IF(AND(D104="",C105>1),1,B104+1)) | C105: =IF(MONTH($E$14)>=L105,EOMONTH(DATE(YEAR($E$14),L105,DAY($E$14)),0),EOMONTH(C104,1)) -> 48730 | D105: =IF(MONTH($E$14)=L105,L105,IF(C105>$K$12,"",IF($E$14>C105,"",MONTH(C105)))) | E105: =IF(D105="",0,IF(E104<>0,K104,$E$10)) -> 0 | F105: =IF($E$10="","",IF(D105="","",$E$11)) | G105: =IF($E$10="",0,IF(D105="",0,E105*F105/12)) -> 0 | H105: =IF($E$10="","",IF(D105="","",I105/E105)) | I105: =IF($E$10="",0,IF($D105="",0,J105-G105)) -> 0 | J105: =IF(B105=$E$12*12,E105+G105,IF(D105="",0,$E$13)) -> 0 | K105: =IF(E105<J105,0,E105-I105) -> 0 | L105: 89
A106: =IF(E106>0,1,0) -> 0 | B106: =IF(D106="","",IF(AND(D105="",C106>1),1,B105+1)) | C106: =IF(MONTH($E$14)>=L106,EOMONTH(DATE(YEAR($E$14),L106,DAY($E$14)),0),EOMONTH(C105,1)) -> 48760 | D106: =IF(MONTH($E$14)=L106,L106,IF(C106>$K$12,"",IF($E$14>C106,"",MONTH(C106)))) | E106: =IF(D106="",0,IF(E105<>0,K105,$E$10)) -> 0 | F106: =IF($E$10="","",IF(D106="","",$E$11)) | G106: =IF($E$10="",0,IF(D106="",0,E106*F106/12)) -> 0 | H106: =IF($E$10="","",IF(D106="","",I106/E106)) | I106: =IF($E$10="",0,IF($D106="",0,J106-G106)) -> 0 | J106: =IF(B106=$E$12*12,E106+G106,IF(D106="",0,$E$13)) -> 0 | K106: =IF(E106<J106,0,E106-I106) -> 0 | L106: 90
A107: =IF(E107>0,1,0) -> 0 | B107: =IF(D107="","",IF(AND(D106="",C107>1),1,B106+1)) | C107: =IF(MONTH($E$14)>=L107,EOMONTH(DATE(YEAR($E$14),L107,DAY($E$14)),0),EOMONTH(C106,1)) -> 48791 | D107: =IF(MONTH($E$14)=L107,L107,IF(C107>$K$12,"",IF($E$14>C107,"",MONTH(C107)))) | E107: =IF(D107="",0,IF(E106<>0,K106,$E$10)) -> 0 | F107: =IF($E$10="","",IF(D107="","",$E$11)) | G107: =IF($E$10="",0,IF(D107="",0,E107*F107/12)) -> 0 | H107: =IF($E$10="","",IF(D107="","",I107/E107)) | I107: =IF($E$10="",0,IF($D107="",0,J107-G107)) -> 0 | J107: =IF(B107=$E$12*12,E107+G107,IF(D107="",0,$E$13)) -> 0 | K107: =IF(E107<J107,0,E107-I107) -> 0 | L107: 91
... A640: =IF(E640>0,1,0) -> 0 | B640: =IF(D640="","",IF(AND(D639="",C640>1),1,B639+1)) | C640: =IF(MONTH($E$14)>=L640,EOMONTH(DATE(YEAR($E$14),L640,DAY($E$14)),0),EOMONTH(C639,1)) -> 65015 | D640: =IF(MONTH($E$14)=L640,L640,IF(C640>$K$12,"",IF($E$14>C640,"",MONTH(C640)))) | E640: =IF(D640="",0,IF(E639<>0,K639,$E$10)) -> 0 | F640: =IF($E$10="","",IF(D640="","",$E$11)) | G640: =IF($E$10="",0,IF(D640="",0,E640*F640/12)) -> 0 | H640: =IF($E$10="","",IF(D640="","",I640/E640)) | I640: =IF($E$10="",0,IF($D640="",0,J640-G640)) -> 0 | J640: =IF(B640=$E$12*12,E640+G640,IF(D640="",0,$E$13)) -> 0 | K640: =IF(E640<J640,0,E640-I640) -> 0 | L640: 624
M641: oben
C642: 45322
C643: 45351
C644: 45382
C645: 45412
C646: 45443
C647: 45473
C648: 45504
C649: 45535
C650: 45565
C651: 45596
C652: 45626
C653: 45657
... C1001: 56249

Sheet Grafik
B2: Entwicklung Kapitaldienst (Zins und Tilgung) der Ballonfinanzierung
B3: Zins
B4: + Tilgung
B5: = Kapitaldienst
A17: ='Autokredit mit abw Schlussrate'!C17 -> 46053
A18: ='Autokredit mit abw Schlussrate'!C18 -> 46081
A19: ='Autokredit mit abw Schlussrate'!C19 -> 46112
A20: ='Autokredit mit abw Schlussrate'!C20 -> 46142
A21: ='Autokredit mit abw Schlussrate'!C21 -> 46173
A22: ='Autokredit mit abw Schlussrate'!C22 -> 46203
A23: ='Autokredit mit abw Schlussrate'!C23 -> 46234
A24: ='Autokredit mit abw Schlussrate'!C24 -> 46265
A25: ='Autokredit mit abw Schlussrate'!C25 -> 46295
A26: ='Autokredit mit abw Schlussrate'!C26 -> 46326
A27: ='Autokredit mit abw Schlussrate'!C27 -> 46356
A28: ='Autokredit mit abw Schlussrate'!C28 -> 46387
A29: =IF('Autokredit mit abw Schlussrate'!B29="","",'Autokredit mit abw Schlussrate'!C29) -> 46418
A30: =IF('Autokredit mit abw Schlussrate'!B30="","",'Autokredit mit abw Schlussrate'!C30) -> 46446
A31: =IF('Autokredit mit abw Schlussrate'!B31="","",'Autokredit mit abw Schlussrate'!C31) -> 46477
A32: =IF('Autokredit mit abw Schlussrate'!B32="","",'Autokredit mit abw Schlussrate'!C32) -> 46507
A33: =IF('Autokredit mit abw Schlussrate'!B33="","",'Autokredit mit abw Schlussrate'!C33) -> 46538
A34: =IF('Autokredit mit abw Schlussrate'!B34="","",'Autokredit mit abw Schlussrate'!C34) -> 46568
A35: =IF('Autokredit mit abw Schlussrate'!B35="","",'Autokredit mit abw Schlussrate'!C35) -> 46599
A36: =IF('Autokredit mit abw Schlussrate'!B36="","",'Autokredit mit abw Schlussrate'!C36) -> 46630
A37: =IF('Autokredit mit abw Schlussrate'!B37="","",'Autokredit mit abw Schlussrate'!C37) -> 46660
A38: =IF('Autokredit mit abw Schlussrate'!B38="","",'Autokredit mit abw Schlussrate'!C38) -> 46691
A39: =IF('Autokredit mit abw Schlussrate'!B39="","",'Autokredit mit abw Schlussrate'!C39) -> 46721
A40: =IF('Autokredit mit abw Schlussrate'!B40="","",'Autokredit mit abw Schlussrate'!C40) -> 46752
... A640: =IF('Autokredit mit abw Schlussrate'!B640="","",'Autokredit mit abw Schlussrate'!C640)
